BEGIN:VCALENDAR
VERSION:2.0
PRODID:-//wp-events-plugin.com//7.2.3.1//EN
TZID:Europe/Paris
X-WR-TIMEZONE:Europe/Paris
BEGIN:VEVENT
UID:228@verticalvic.fr
DTSTART;TZID=Europe/Paris:20231112T000000
DTEND;TZID=Europe/Paris:20231112T000000
DTSTAMP:20231031T095501Z
URL:https://www.verticalvic.fr/events/sae-indisponible-103/
SUMMARY:SAE INDISPONIBLE
DESCRIPTION:La Salle Polyvalente est mise à la disposition de Mme SAMANIEG
 O\, domiciliée à VIC-SUR-CERE\,\nCantal\, agissant au titre de l’amica
 le laïque\n\nLe dimanche 12 novembre de 8h00 à 20h00\n__________________
 ____________________\n\nà l’occasion de la bourse aux jouets
END:VEVENT
BEGIN:VTIMEZONE
TZID:Europe/Paris
X-LIC-LOCATION:Europe/Paris
BEGIN:STANDARD
DTSTART:20231029T020000
TZOFFSETFROM:+0200
TZOFFSETTO:+0100
TZNAME:CET
END:STANDARD
END:VTIMEZONE
END:VCALENDAR