BEGIN:VCALENDAR
VERSION:2.0
PRODID:-//wp-events-plugin.com//7.2.3.1//EN
TZID:Europe/Paris
X-WR-TIMEZONE:Europe/Paris
BEGIN:VEVENT
UID:231@verticalvic.fr
DTSTART;TZID=Europe/Paris:20231208T000000
DTEND;TZID=Europe/Paris:20231210T000000
DTSTAMP:20231128T141452Z
URL:https://www.verticalvic.fr/events/sae-indisponible-106/
SUMMARY:SAE INDISPONIBLE
DESCRIPTION:TELETHON
END:VEVENT
BEGIN:VTIMEZONE
TZID:Europe/Paris
X-LIC-LOCATION:Europe/Paris
BEGIN:STANDARD
DTSTART:20231029T020000
TZOFFSETFROM:+0200
TZOFFSETTO:+0100
TZNAME:CET
END:STANDARD
END:VTIMEZONE
END:VCALENDAR