BEGIN:VCALENDAR
VERSION:2.0
PRODID:-//wp-events-plugin.com//7.2.3.1//EN
TZID:Europe/Paris
X-WR-TIMEZONE:Europe/Paris
BEGIN:VEVENT
UID:164@verticalvic.fr
DTSTART;TZID=Europe/Paris:20190607T000000
DTEND;TZID=Europe/Paris:20190609T000000
DTSTAMP:20190606T182740Z
URL:https://www.verticalvic.fr/events/sae-indisponible-40/
SUMMARY:SAE INDISPONIBLE
DESCRIPTION:La salle polyvalente\, est mise à la disposition de Christophe
  GILLET\, domicilié(e) à VIC SUR CERE\, Cantal\, 2 Rue des Lilas\, agiss
 ant à titre de membre du Cère Football Club :\n\nDu VENDREDI 7 JUIN 2019
  à 14h00\nAu DIMANCHE 9 JUIN 2019 à 12h00\n-----------------------------
 ---------------------\n\nà l’occasion du tournoi Giodano/Lours.
END:VEVENT
BEGIN:VTIMEZONE
TZID:Europe/Paris
X-LIC-LOCATION:Europe/Paris
BEGIN:DAYLIGHT
DTSTART:20190331T030000
TZOFFSETFROM:+0100
TZOFFSETTO:+0200
TZNAME:CEST
END:DAYLIGHT
END:VTIMEZONE
END:VCALENDAR