BEGIN:VCALENDAR
VERSION:2.0
PRODID:-//wp-events-plugin.com//7.2.3.1//EN
TZID:Europe/Paris
X-WR-TIMEZONE:Europe/Paris
BEGIN:VEVENT
UID:196@verticalvic.fr
DTSTART;TZID=Europe/Paris;VALUE=DATE:20220902
DTEND;TZID=Europe/Paris;VALUE=DATE:20220905
DTSTAMP:20220824T122623Z
URL:https://www.verticalvic.fr/events/sae-indisponible-72/
SUMMARY:SAE INDISPONIBLE
DESCRIPTION:La salle polyvalente est mise à la disposition de Mme MION et 
 Mr BESOMBES\, domiciliés 70 Impasse Stéphane HESSEL\, ARPAJON SUR CERE\,
  Cantal\, agissant à titre de particuliers\,\n\n \n\nDu VENDREDI 2 SEPTE
 MBRE 2022 à 12h30\n\nAu DIMANCHE 4 SEPTEMBRE 2022 à 21h00 \n\n----------
 ----------------------------------------\n\n&nbsp\;\n\nà l’occasion d
 ’un mariage.
END:VEVENT
BEGIN:VTIMEZONE
TZID:Europe/Paris
X-LIC-LOCATION:Europe/Paris
BEGIN:DAYLIGHT
DTSTART:20220327T030000
TZOFFSETFROM:+0100
TZOFFSETTO:+0200
TZNAME:CEST
END:DAYLIGHT
END:VTIMEZONE
END:VCALENDAR