BEGIN:VCALENDAR
VERSION:2.0
PRODID:-//wp-events-plugin.com//7.2.3.1//EN
TZID:Europe/Paris
X-WR-TIMEZONE:Europe/Paris
BEGIN:VEVENT
UID:218@verticalvic.fr
DTSTART;TZID=Europe/Paris:20230413T000000
DTEND;TZID=Europe/Paris:20230417T000000
DTSTAMP:20230403T151833Z
URL:https://www.verticalvic.fr/events/sae-indisponible-93/
SUMMARY:SAE INDISPONIBLE
DESCRIPTION:La salle Polyvalente est mise à la disposition de Paulette ESP
 ARGILIERE\, domiciliée à VIC SUR CERE\, Cantal\, agissant à titre de -p
 résidente de l’ADMR\,\n\n \n\nDu JEUDI 13 AVRIL 2023 à 8h00\n\nAu MAR
 DI 18 AVRIL 2023 à 14h00
END:VEVENT
BEGIN:VTIMEZONE
TZID:Europe/Paris
X-LIC-LOCATION:Europe/Paris
BEGIN:DAYLIGHT
DTSTART:20230326T030000
TZOFFSETFROM:+0100
TZOFFSETTO:+0200
TZNAME:CEST
END:DAYLIGHT
END:VTIMEZONE
END:VCALENDAR