BEGIN:VCALENDAR
VERSION:2.0
PRODID:-//wp-events-plugin.com//7.2.3.1//EN
TZID:Europe/Paris
X-WR-TIMEZONE:Europe/Paris
BEGIN:VEVENT
UID:274@verticalvic.fr
DTSTART;TZID=Europe/Paris:20250613T000000
DTEND;TZID=Europe/Paris:20250615T000000
DTSTAMP:20250516T181536Z
URL:https://www.verticalvic.fr/events/sae-indisponible-tournoi-de-foot-2/
SUMMARY:SAE INDISPONIBLE (tournoi de foot)
DESCRIPTION:
END:VEVENT
BEGIN:VTIMEZONE
TZID:Europe/Paris
X-LIC-LOCATION:Europe/Paris
BEGIN:DAYLIGHT
DTSTART:20250330T030000
TZOFFSETFROM:+0100
TZOFFSETTO:+0200
TZNAME:CEST
END:DAYLIGHT
END:VTIMEZONE
END:VCALENDAR