BEGIN:VCALENDAR
VERSION:2.0
PRODID:-//wp-events-plugin.com//7.2.3.1//EN
TZID:Europe/Paris
X-WR-TIMEZONE:Europe/Paris
BEGIN:VEVENT
UID:1@verticalvic.fr
DTSTART;TZID=Europe/Paris:20160917T000000
DTEND;TZID=Europe/Paris:20160920T120000
DTSTAMP:20160918T183313Z
URL:https://www.verticalvic.fr/events/salle-fermee-jusquau-mardi-20-sept-m
 idi/
SUMMARY:Salle fermée jusqu'au mardi 20 Sept Midi
DESCRIPTION:Bonjour\,\nAu vu des manifestations des week-ends du 10-11 et 1
 7-18 septembre\, du matériel imposant sera mis en place à partir de dema
 in dans la salle polyvalente\, et y restera entre les deux manifestations 
 \, afin d’éviter la manutention inutile.\nSeul l’espace devant le mur
  d’escalade reste libre\, donc utilisable.\nPar contre\, la salle sera c
 omplètement fermée aux activités les samedi 10 et dimanche 11 et du jeu
 di 15 au mardi 20 septembre à midi.\nMerci à tous pour votre compréhens
 ion.\nBien cordialement.\n\nmairie@vicsurcere.fr - 04.71.47.51.75\nBénéd
 icte CAYROU\nAdj. Adm. Pal.\nMairie de Vic-sur-Cère (15800)\naccueil@vics
 urcere.fr\nTél : 04.71.47.39.48
END:VEVENT
BEGIN:VTIMEZONE
TZID:Europe/Paris
X-LIC-LOCATION:Europe/Paris
BEGIN:DAYLIGHT
DTSTART:20160327T030000
TZOFFSETFROM:+0100
TZOFFSETTO:+0200
TZNAME:CEST
END:DAYLIGHT
END:VTIMEZONE
END:VCALENDAR