BEGIN:VCALENDAR
VERSION:2.0
PRODID:-//wp-events-plugin.com//7.2.3.1//EN
TZID:Europe/Paris
X-WR-TIMEZONE:Europe/Paris
BEGIN:VEVENT
UID:296@verticalvic.fr
DTSTART;TZID=Europe/Paris;VALUE=DATE:20260331
DTEND;TZID=Europe/Paris;VALUE=DATE:20260401
DTSTAMP:20250907T092148Z
URL:https://www.verticalvic.fr/events/salle-indisponible-26/
SUMMARY:SALLE INDISPONIBLE
DESCRIPTION:
END:VEVENT
BEGIN:VTIMEZONE
TZID:Europe/Paris
X-LIC-LOCATION:Europe/Paris
BEGIN:DAYLIGHT
DTSTART:20260329T030000
TZOFFSETFROM:+0100
TZOFFSETTO:+0200
TZNAME:CEST
END:DAYLIGHT
END:VTIMEZONE
END:VCALENDAR