BEGIN:VCALENDAR
VERSION:2.0
PRODID:-//wp-events-plugin.com//7.2.3.1//EN
TZID:Europe/Paris
X-WR-TIMEZONE:Europe/Paris
BEGIN:VEVENT
UID:309@verticalvic.fr
DTSTART;TZID=Europe/Paris;VALUE=DATE:20260130
DTEND;TZID=Europe/Paris;VALUE=DATE:20260201
DTSTAMP:20260120T180744Z
URL:https://www.verticalvic.fr/events/salle-indisponible-37/
SUMMARY:SALLE INDISPONIBLE
DESCRIPTION:
END:VEVENT
BEGIN:VTIMEZONE
TZID:Europe/Paris
X-LIC-LOCATION:Europe/Paris
BEGIN:STANDARD
DTSTART:20251026T020000
TZOFFSETFROM:+0200
TZOFFSETTO:+0100
TZNAME:CET
END:STANDARD
END:VTIMEZONE
END:VCALENDAR